Package: scPCA Version: 1.25.0 Maintainer: Philippe Boileau MaintainerEmail: philippe_boileau at berkeley.edu git_url: https://git.bioconductor.org/packages/scPCA git_branch: devel git_last_commit: 93c5905 git_last_commit_date: 2025-10-29 10:55:26 -0500 (Wed, 29 Oct 2025)