Package: scMerge Version: 1.27.0 Command: /home/biocbuild/bbs-3.23-bioc/R/bin/R CMD INSTALL scMerge StartedAt: 2025-11-18 16:48:38 -0500 (Tue, 18 Nov 2025) EndedAt: 2025-11-18 16:49:20 -0500 (Tue, 18 Nov 2025) EllapsedTime: 41.9 seconds RetCode: 0 Status: OK