Package: scHOT Version: 1.23.0 Command: /home/biocbuild/bbs-3.23-bioc/R/bin/R CMD INSTALL scHOT StartedAt: 2025-11-17 15:23:53 -0500 (Mon, 17 Nov 2025) EndedAt: 2025-11-17 15:24:21 -0500 (Mon, 17 Nov 2025) EllapsedTime: 27.5 seconds RetCode: 0 Status: OK