Package: scGraphVerse Version: 1.1.0 Command: /home/biocbuild/bbs-3.23-bioc/R/bin/R CMD INSTALL scGraphVerse StartedAt: 2025-11-07 15:21:23 -0500 (Fri, 07 Nov 2025) EndedAt: 2025-11-07 15:21:52 -0500 (Fri, 07 Nov 2025) EllapsedTime: 29.6 seconds RetCode: 0 Status: OK