Package: scGraphVerse Version: 1.1.0 Command: /home/biocbuild/bbs-3.23-bioc/R/bin/R CMD build --keep-empty-dirs --no-resave-data scGraphVerse StartedAt: 2025-11-07 19:49:08 -0500 (Fri, 07 Nov 2025) EndedAt: 2025-11-07 19:55:23 -0500 (Fri, 07 Nov 2025) EllapsedTime: 374.2 seconds RetCode: 0 Status: OK PackageFile: scGraphVerse_1.1.0.tar.gz PackageFileSize: 3.542 MiB