Package: scFeatures Version: 1.11.0 Maintainer: Yue Cao MaintainerEmail: yue.cao at sydney.edu.au git_url: https://git.bioconductor.org/packages/scFeatures git_branch: devel git_last_commit: 6d12eae git_last_commit_date: 2025-10-29 11:20:52 -0500 (Wed, 29 Oct 2025)