Package: scFeatureFilter Version: 1.31.0 Maintainer: Guillaume Devailly MaintainerEmail: gdevailly at hotmail.com git_url: https://git.bioconductor.org/packages/scFeatureFilter git_branch: devel git_last_commit: edd3239 git_last_commit_date: 2025-10-29 10:42:35 -0500 (Wed, 29 Oct 2025)