Package: scDotPlot Version: 1.5.0 Command: /home/biocbuild/bbs-3.23-bioc/R/bin/R CMD INSTALL scDotPlot StartedAt: 2025-11-09 15:53:36 -0500 (Sun, 09 Nov 2025) EndedAt: 2025-11-09 15:54:15 -0500 (Sun, 09 Nov 2025) EllapsedTime: 39.6 seconds RetCode: 0 Status: OK