Package: scDotPlot Version: 1.5.0 Command: /home/biocbuild/bbs-3.23-bioc/R/bin/R CMD build --keep-empty-dirs --no-resave-data scDotPlot StartedAt: 2025-11-09 19:47:10 -0500 (Sun, 09 Nov 2025) EndedAt: 2025-11-09 19:48:56 -0500 (Sun, 09 Nov 2025) EllapsedTime: 106.1 seconds RetCode: 0 Status: OK PackageFile: scDotPlot_1.5.0.tar.gz PackageFileSize: 1.874 MiB