Package: scDotPlot Version: 1.5.0 Maintainer: Benjamin I Laufer MaintainerEmail: blaufer at gmail.com git_url: https://git.bioconductor.org/packages/scDotPlot git_branch: devel git_last_commit: 060123e git_last_commit_date: 2025-10-29 11:30:47 -0500 (Wed, 29 Oct 2025)