Package: scDiagnostics Version: 1.5.0 Command: /home/biocbuild/bbs-3.23-bioc/R/bin/R CMD build --keep-empty-dirs --no-resave-data scDiagnostics StartedAt: 2025-11-26 19:49:50 -0500 (Wed, 26 Nov 2025) EndedAt: 2025-11-26 19:54:11 -0500 (Wed, 26 Nov 2025) EllapsedTime: 261.3 seconds RetCode: 0 Status: OK PackageFile: scDiagnostics_1.5.0.tar.gz PackageFileSize: 3.677 MiB