Package: scDesign3 Version: 1.9.0 Command: /home/biocbuild/bbs-3.23-bioc/R/bin/R CMD INSTALL scDesign3 StartedAt: 2025-11-09 15:36:35 -0500 (Sun, 09 Nov 2025) EndedAt: 2025-11-09 15:36:44 -0500 (Sun, 09 Nov 2025) EllapsedTime: 9.2 seconds RetCode: 0 Status: OK