Package: scDesign3 Version: 1.9.0 Maintainer: Dongyuan Song MaintainerEmail: dongyuansong at ucla.edu git_url: https://git.bioconductor.org/packages/scDesign3 git_branch: devel git_last_commit: f87307f git_last_commit_date: 2025-10-29 11:26:29 -0500 (Wed, 29 Oct 2025)