Package: scDataviz Version: 1.21.0 Command: /home/biocbuild/bbs-3.23-bioc/R/bin/R CMD INSTALL scDataviz StartedAt: 2025-11-07 15:35:55 -0500 (Fri, 07 Nov 2025) EndedAt: 2025-11-07 15:36:32 -0500 (Fri, 07 Nov 2025) EllapsedTime: 36.8 seconds RetCode: 0 Status: OK