Package: scDataviz Version: 1.21.0 Command: /home/biocbuild/bbs-3.23-bioc/R/bin/R CMD build --keep-empty-dirs --no-resave-data scDataviz StartedAt: 2025-11-09 19:45:46 -0500 (Sun, 09 Nov 2025) EndedAt: 2025-11-09 19:49:46 -0500 (Sun, 09 Nov 2025) EllapsedTime: 240.3 seconds RetCode: 0 Status: OK PackageFile: scDataviz_1.21.0.tar.gz PackageFileSize: 7.481 MiB