Package: scDataviz Version: 1.21.0 Maintainer: Kevin Blighe MaintainerEmail: kevin at clinicalbioinformatics.co.uk git_url: https://git.bioconductor.org/packages/scDataviz git_branch: devel git_last_commit: 77d65c4 git_last_commit_date: 2025-10-29 11:00:46 -0500 (Wed, 29 Oct 2025)