Package: scDDboost Version: 1.13.0 Command: /home/biocbuild/bbs-3.23-bioc/R/bin/R CMD build --keep-empty-dirs --no-resave-data scDDboost StartedAt: 2025-11-09 19:46:40 -0500 (Sun, 09 Nov 2025) EndedAt: 2025-11-09 19:48:08 -0500 (Sun, 09 Nov 2025) EllapsedTime: 88.1 seconds RetCode: 0 Status: OK PackageFile: scDDboost_1.13.0.tar.gz PackageFileSize: 812.5 KiB