Package: rnaseqcomp Version: 1.41.0 Command: /home/biocbuild/bbs-3.23-bioc/R/bin/R CMD INSTALL rnaseqcomp StartedAt: 2025-11-21 15:04:58 -0500 (Fri, 21 Nov 2025) EndedAt: 2025-11-21 15:05:17 -0500 (Fri, 21 Nov 2025) EllapsedTime: 19.4 seconds RetCode: 0 Status: OK