Package: randRotation Version: 1.23.0 Command: /home/biocbuild/bbs-3.23-bioc/R/bin/R CMD INSTALL randRotation StartedAt: 2025-11-07 15:03:54 -0500 (Fri, 07 Nov 2025) EndedAt: 2025-11-07 15:04:14 -0500 (Fri, 07 Nov 2025) EllapsedTime: 19.9 seconds RetCode: 0 Status: OK