Package: randRotation Version: 1.23.0 Command: /home/biocbuild/bbs-3.23-bioc/R/bin/R CMD build --keep-empty-dirs --no-resave-data randRotation StartedAt: 2025-11-07 19:25:01 -0500 (Fri, 07 Nov 2025) EndedAt: 2025-11-07 19:26:44 -0500 (Fri, 07 Nov 2025) EllapsedTime: 103.1 seconds RetCode: 0 Status: OK PackageFile: randRotation_1.23.0.tar.gz PackageFileSize: 974.7 KiB