Package: randRotation Version: 1.23.0 Maintainer: Peter Hettegger MaintainerEmail: p.hettegger at gmail.com git_url: https://git.bioconductor.org/packages/randRotation git_branch: devel git_last_commit: 58e9564 git_last_commit_date: 2025-10-29 10:58:44 -0500 (Wed, 29 Oct 2025)