Package: r3Cseq Version: 1.57.0 Command: /home/biocbuild/bbs-3.23-bioc/R/bin/R CMD INSTALL r3Cseq StartedAt: 2025-11-07 15:31:29 -0500 (Fri, 07 Nov 2025) EndedAt: 2025-11-07 15:32:12 -0500 (Fri, 07 Nov 2025) EllapsedTime: 42.2 seconds RetCode: 0 Status: OK