Package: projectR Version: 1.27.0 Command: /home/biocbuild/bbs-3.23-bioc/R/bin/R CMD build --keep-empty-dirs --no-resave-data projectR StartedAt: 2025-11-14 19:22:10 -0500 (Fri, 14 Nov 2025) EndedAt: 2025-11-14 19:24:05 -0500 (Fri, 14 Nov 2025) EllapsedTime: 115.1 seconds RetCode: 0 Status: OK PackageFile: projectR_1.27.0.tar.gz PackageFileSize: 5.895 MiB