Package: profileScoreDist Version: 1.39.0 Command: /home/biocbuild/bbs-3.23-bioc/R/bin/R CMD INSTALL profileScoreDist StartedAt: 2025-11-07 15:12:03 -0500 (Fri, 07 Nov 2025) EndedAt: 2025-11-07 15:12:14 -0500 (Fri, 07 Nov 2025) EllapsedTime: 10.8 seconds RetCode: 0 Status: OK