Package: profileScoreDist Version: 1.39.0 Command: /home/biocbuild/bbs-3.23-bioc/R/bin/R CMD build --keep-empty-dirs --no-resave-data profileScoreDist StartedAt: 2025-11-07 19:18:15 -0500 (Fri, 07 Nov 2025) EndedAt: 2025-11-07 19:18:33 -0500 (Fri, 07 Nov 2025) EllapsedTime: 18.0 seconds RetCode: 0 Status: OK PackageFile: profileScoreDist_1.39.0.tar.gz PackageFileSize: 187.6 KiB