Package: preprocessCore Version: 1.73.0 Command: /home/biocbuild/bbs-3.23-bioc/R/bin/R CMD INSTALL preprocessCore StartedAt: 2025-11-07 15:11:39 -0500 (Fri, 07 Nov 2025) EndedAt: 2025-11-07 15:11:56 -0500 (Fri, 07 Nov 2025) EllapsedTime: 17.1 seconds RetCode: 0 Status: OK