Package: preciseTAD Version: 1.21.0 Maintainer: Mikhail Dozmorov MaintainerEmail: mikhail.dozmorov at gmail.com git_url: https://git.bioconductor.org/packages/preciseTAD git_branch: devel git_last_commit: 301ea2e git_last_commit_date: 2025-10-29 11:02:20 -0500 (Wed, 29 Oct 2025)