Package: powerTCR Version: 1.31.0 Command: /home/biocbuild/bbs-3.23-bioc/R/bin/R CMD INSTALL powerTCR StartedAt: 2025-11-17 15:07:03 -0500 (Mon, 17 Nov 2025) EndedAt: 2025-11-17 15:07:43 -0500 (Mon, 17 Nov 2025) EllapsedTime: 40.2 seconds RetCode: 0 Status: OK