Package: plotgardener Version: 1.17.0 Command: /home/biocbuild/bbs-3.23-bioc/R/bin/R CMD INSTALL plotgardener StartedAt: 2025-11-18 16:28:03 -0500 (Tue, 18 Nov 2025) EndedAt: 2025-11-18 16:28:53 -0500 (Tue, 18 Nov 2025) EllapsedTime: 49.7 seconds RetCode: 0 Status: OK