Package: plotGrouper Version: 1.29.0 Maintainer: John D. Gagnon MaintainerEmail: john.gagnon.42 at gmail.com git_url: https://git.bioconductor.org/packages/plotGrouper git_branch: devel git_last_commit: 18aaae2 git_last_commit_date: 2025-10-29 10:47:14 -0500 (Wed, 29 Oct 2025)