Package: pipeFrame Version: 1.27.0 Command: /home/biocbuild/bbs-3.23-bioc/R/bin/R CMD INSTALL pipeFrame StartedAt: 2025-11-17 15:59:22 -0500 (Mon, 17 Nov 2025) EndedAt: 2025-11-17 15:59:54 -0500 (Mon, 17 Nov 2025) EllapsedTime: 31.9 seconds RetCode: 0 Status: OK