Package: pipeComp Version: 1.21.0 Command: /home/biocbuild/bbs-3.23-bioc/R/bin/R CMD INSTALL pipeComp StartedAt: 2025-11-11 15:58:59 -0500 (Tue, 11 Nov 2025) EndedAt: 2025-11-11 16:00:00 -0500 (Tue, 11 Nov 2025) EllapsedTime: 60.9 seconds RetCode: 0 Status: OK