Package: pipeComp Version: 1.21.0 Command: /home/biocbuild/bbs-3.23-bioc/R/bin/R CMD build --keep-empty-dirs --no-resave-data pipeComp StartedAt: 2025-11-11 19:21:37 -0500 (Tue, 11 Nov 2025) EndedAt: 2025-11-11 19:23:19 -0500 (Tue, 11 Nov 2025) EllapsedTime: 102.1 seconds RetCode: 0 Status: OK PackageFile: pipeComp_1.21.0.tar.gz PackageFileSize: 3.923 MiB