Package: phosphonormalizer Version: 1.35.0 Command: /home/biocbuild/bbs-3.23-bioc/R/bin/R CMD build --keep-empty-dirs --no-resave-data phosphonormalizer StartedAt: 2025-11-20 19:16:52 -0500 (Thu, 20 Nov 2025) EndedAt: 2025-11-20 19:17:00 -0500 (Thu, 20 Nov 2025) EllapsedTime: 8.0 seconds RetCode: 0 Status: OK PackageFile: phosphonormalizer_1.35.0.tar.gz PackageFileSize: 2.695 MiB