Package: pepXMLTab Version: 1.45.0 Command: /home/biocbuild/bbs-3.23-bioc/R/bin/R CMD INSTALL pepXMLTab StartedAt: 2025-11-07 15:02:45 -0500 (Fri, 07 Nov 2025) EndedAt: 2025-11-07 15:02:53 -0500 (Fri, 07 Nov 2025) EllapsedTime: 8.2 seconds RetCode: 0 Status: OK