Package: pepXMLTab Version: 1.45.0 Command: /home/biocbuild/bbs-3.23-bioc/R/bin/R CMD build --keep-empty-dirs --no-resave-data pepXMLTab StartedAt: 2025-11-07 19:11:17 -0500 (Fri, 07 Nov 2025) EndedAt: 2025-11-07 19:11:24 -0500 (Fri, 07 Nov 2025) EllapsedTime: 7.0 seconds RetCode: 0 Status: OK PackageFile: pepXMLTab_1.45.0.tar.gz PackageFileSize: 187.9 KiB