Package: pepXMLTab Version: 1.45.0 Maintainer: Xiaojing Wang MaintainerEmail: xiaojing.wang at vanderbilt.edu git_url: https://git.bioconductor.org/packages/pepXMLTab git_branch: devel git_last_commit: 2949fd1 git_last_commit_date: 2025-10-29 10:23:02 -0500 (Wed, 29 Oct 2025)