Package: pcaExplorer Version: 3.5.0 Command: /home/biocbuild/bbs-3.23-bioc/R/bin/R CMD build --keep-empty-dirs --no-resave-data pcaExplorer StartedAt: 2025-11-11 19:18:01 -0500 (Tue, 11 Nov 2025) EndedAt: 2025-11-11 19:20:05 -0500 (Tue, 11 Nov 2025) EllapsedTime: 123.1 seconds RetCode: 0 Status: OK PackageFile: pcaExplorer_3.5.0.tar.gz PackageFileSize: 10.72 MiB