Package: pathifier Version: 1.49.0 Command: /home/biocbuild/bbs-3.23-bioc/R/bin/R CMD build --keep-empty-dirs --no-resave-data pathifier StartedAt: 2025-11-10 19:13:50 -0500 (Mon, 10 Nov 2025) EndedAt: 2025-11-10 19:14:08 -0500 (Mon, 10 Nov 2025) EllapsedTime: 18.0 seconds RetCode: 0 Status: OK PackageFile: pathifier_1.49.0.tar.gz PackageFileSize: 2.032 MiB