Package: pathRender Version: 1.79.0 Command: /home/biocbuild/bbs-3.23-bioc/R/bin/R CMD INSTALL pathRender StartedAt: 2025-11-16 15:26:41 -0500 (Sun, 16 Nov 2025) EndedAt: 2025-11-16 15:26:54 -0500 (Sun, 16 Nov 2025) EllapsedTime: 13.4 seconds RetCode: 0 Status: OK