Package: pathRender Version: 1.79.0 Command: /home/biocbuild/bbs-3.23-bioc/R/bin/R CMD build --keep-empty-dirs --no-resave-data pathRender StartedAt: 2025-11-16 19:17:11 -0500 (Sun, 16 Nov 2025) EndedAt: 2025-11-16 19:17:36 -0500 (Sun, 16 Nov 2025) EllapsedTime: 25.0 seconds RetCode: 0 Status: OK PackageFile: pathRender_1.79.0.tar.gz PackageFileSize: 301.4 KiB