Package: pRolocGUI Version: 2.21.0 Command: /home/biocbuild/bbs-3.23-bioc/R/bin/R CMD INSTALL pRolocGUI StartedAt: 2025-11-21 15:43:47 -0500 (Fri, 21 Nov 2025) EndedAt: 2025-11-21 15:44:39 -0500 (Fri, 21 Nov 2025) EllapsedTime: 52.0 seconds RetCode: 0 Status: OK