Package: optimalFlow Version: 1.23.0 Command: /home/biocbuild/bbs-3.23-bioc/R/bin/R CMD INSTALL optimalFlow StartedAt: 2025-11-21 15:14:19 -0500 (Fri, 21 Nov 2025) EndedAt: 2025-11-21 15:14:36 -0500 (Fri, 21 Nov 2025) EllapsedTime: 17.6 seconds RetCode: 0 Status: OK