Package: optimalFlow Version: 1.23.0 Command: /home/biocbuild/bbs-3.23-bioc/R/bin/R CMD build --keep-empty-dirs --no-resave-data optimalFlow StartedAt: 2025-11-21 19:08:17 -0500 (Fri, 21 Nov 2025) EndedAt: 2025-11-21 19:14:37 -0500 (Fri, 21 Nov 2025) EllapsedTime: 380.5 seconds RetCode: 0 Status: OK PackageFile: optimalFlow_1.23.0.tar.gz PackageFileSize: 1.317 MiB