Package: ompBAM Version: 1.15.0 Command: /home/biocbuild/bbs-3.23-bioc/R/bin/R CMD INSTALL ompBAM StartedAt: 2025-11-07 15:02:38 -0500 (Fri, 07 Nov 2025) EndedAt: 2025-11-07 15:02:43 -0500 (Fri, 07 Nov 2025) EllapsedTime: 4.8 seconds RetCode: 0 Status: OK