Package: ompBAM Version: 1.15.0 Maintainer: Alex Chit Hei Wong MaintainerEmail: alexchwong.github at gmail.com git_url: https://git.bioconductor.org/packages/ompBAM git_branch: devel git_last_commit: 1bbdce2 git_last_commit_date: 2025-10-29 11:16:35 -0500 (Wed, 29 Oct 2025)