Package: omicsViewer Version: 1.15.0 Command: /home/biocbuild/bbs-3.23-bioc/R/bin/R CMD INSTALL omicsViewer StartedAt: 2025-11-10 15:30:05 -0500 (Mon, 10 Nov 2025) EndedAt: 2025-11-10 15:30:38 -0500 (Mon, 10 Nov 2025) EllapsedTime: 33.5 seconds RetCode: 0 Status: OK