Package: omicsViewer Version: 1.15.0 Command: /home/biocbuild/bbs-3.23-bioc/R/bin/R CMD build --keep-empty-dirs --no-resave-data omicsViewer StartedAt: 2025-11-10 19:05:19 -0500 (Mon, 10 Nov 2025) EndedAt: 2025-11-10 19:06:12 -0500 (Mon, 10 Nov 2025) EllapsedTime: 53.0 seconds RetCode: 0 Status: OK PackageFile: omicsViewer_1.15.0.tar.gz PackageFileSize: 4.332 MiB