Package: omicplotR Version: 1.31.0 Command: /home/biocbuild/bbs-3.23-bioc/R/bin/R CMD INSTALL omicplotR StartedAt: 2025-11-07 15:36:04 -0500 (Fri, 07 Nov 2025) EndedAt: 2025-11-07 15:36:28 -0500 (Fri, 07 Nov 2025) EllapsedTime: 24.0 seconds RetCode: 0 Status: OK