Package: omicplotR Version: 1.31.0 Command: /home/biocbuild/bbs-3.23-bioc/R/bin/R CMD build --keep-empty-dirs --no-resave-data omicplotR StartedAt: 2025-11-07 18:59:29 -0500 (Fri, 07 Nov 2025) EndedAt: 2025-11-07 18:59:55 -0500 (Fri, 07 Nov 2025) EllapsedTime: 26.1 seconds RetCode: 0 Status: OK PackageFile: omicplotR_1.31.0.tar.gz PackageFileSize: 1.64 MiB